BEGIN:VCALENDAR
VERSION:2.0
PRODID:-//Clara J&#039;s At 219 - ECPv6.15.20//NONSGML v1.0//EN
CALSCALE:GREGORIAN
METHOD:PUBLISH
X-WR-CALNAME:Clara J&#039;s At 219
X-ORIGINAL-URL:https://www.clarajsat219.com
X-WR-CALDESC:Events for Clara J&#039;s At 219
REFRESH-INTERVAL;VALUE=DURATION:PT1H
X-Robots-Tag:noindex
X-PUBLISHED-TTL:PT1H
BEGIN:VTIMEZONE
TZID:UTC
BEGIN:STANDARD
TZOFFSETFROM:+0000
TZOFFSETTO:+0000
TZNAME:UTC
DTSTART:20140101T000000
END:STANDARD
END:VTIMEZONE
BEGIN:VEVENT
DTSTART;TZID=UTC:20151206T103000
DTEND;TZID=UTC:20151206T143000
DTSTAMP:20260423T090627
CREATED:20151104T005111Z
LAST-MODIFIED:20151104T005111Z
UID:436-1449397800-1449412200@www.clarajsat219.com
SUMMARY:December Dining
DESCRIPTION:Clara J’s Tea room and Neapolitan Gift Shop will be open all FOUR Sundays in December serving lunch from 11 until 2:30 \nNeapolitan Gifts will be open from 10:30 until 2:30
URL:https://www.clarajsat219.com/event/december-dining/
LOCATION:Clara J’s Tea Room\, 219 West Wayne Street\, Maumee
END:VEVENT
BEGIN:VEVENT
DTSTART;TZID=UTC:20151108T130000
DTEND;TZID=UTC:20151108T160000
DTSTAMP:20260423T090627
CREATED:20151104T004612Z
LAST-MODIFIED:20151104T004612Z
UID:435-1446987600-1446998400@www.clarajsat219.com
SUMMARY:Holiday Boutique
DESCRIPTION:Clara J’s and Neapolitan annual Open House this Sunday November 8 from 1 – 4. No reservations necessary…just stop in! The best news is that many other shops in Uptown Maumee will also be celebrating the Holiday season and be open the same hours as Clara J’s & Neapolitan. Each business will have special offers for the guests. Clara J’s & Neapolitan will have the following vendors selling their homemade and specialty gifts. Belma Tan\, Aegean Connection:  scarves\, wraps\, jewelry and more. Barbara Ann Creations …specialty jewelry by Barbara Shoun; Alison Holly…repurposed Treasurers; Heide Allan..Wellness lotions and potions; Janet Rasmusson…Paper Delights; Lynda Hardy – “Just for You: original jewelry; Eleanor Hutton…Children’s author and illustrator; Lyndsay Sycpta…Ceramics; Marjory Wilkin…American Girl Doll Clothes and Accessories \n 
URL:https://www.clarajsat219.com/event/holiday-boutique-3/
LOCATION:Clara J’s & Neapolitan\, 219 West Wayne Street\, Maumee\, 43537
END:VEVENT
END:VCALENDAR